BEGIN:VCALENDAR
VERSION:2.0
PRODID:-//Tukios.com/
BEGIN:VEVENT
UID:bf6885aa-dae8-49ad-b1a3-aadf47cb9c34@www.warnerfuneralhome.com
DTSTAMP:20260421T082529Z
DTSTART:20260424T210000Z
DTEND:20260425T000000Z
SUMMARY:Celebration of Life
DESCRIPTION:
URL:https://www.warnerfuneralhome.com/obituaries/patricia-nissen
LOCATION:Weasy’s 216 Grand Avenue  Spencer IA 51301
GEO:43.1401528;-95.144237
END:VEVENT
END:VCALENDAR